BEGIN:VCALENDAR
VERSION:2.0
PRODID:-//Shivam Huzurbazar - ECPv5.1.4//NONSGML v1.0//EN
CALSCALE:GREGORIAN
METHOD:PUBLISH
X-WR-CALNAME:Shivam Huzurbazar
X-ORIGINAL-URL:https://shivamhuzurbazar.com
X-WR-CALDESC:Events for Shivam Huzurbazar
BEGIN:VTIMEZONE
TZID:UTC
BEGIN:STANDARD
TZOFFSETFROM:+0000
TZOFFSETTO:+0000
TZNAME:UTC
DTSTART:20230101T000000
END:STANDARD
END:VTIMEZONE
BEGIN:VEVENT
DTSTART;VALUE=DATE:20230828
DTEND;VALUE=DATE:20230904
DTSTAMP:20260422T041543
CREATED:20230817T124058Z
LAST-MODIFIED:20230911T083400Z
UID:6252-1693180800-1693785599@shivamhuzurbazar.com
SUMMARY:Jehangir Art Gallery - August 2023
DESCRIPTION:		\n			\n				\n							\n						\n				\n				\n			\n					\n				\n				\n					\n			\n		\n				\n				\n				\n						\n				\n				\n			\n					\n				\n				\n					\n					\n				\n				\n						\n			\n		\n				\n			\n					\n				\n				\n					\n					\n				\n				\n						\n			\n		\n						\n			\n		\n				\n				\n					\n			\n		\n				\n				\n				\n						\n				\n				\n			\n					\n				\n				\n					\n					\n				\n				\n						\n			\n		\n				\n			\n					\n				\n				\n					\n					\n				\n				\n						\n			\n		\n						\n			\n		\n				\n				\n					\n			\n		\n				\n				\n				\n				\n					\n			\n			\n				\n			\n			\n				\n			\n			\n				\n			\n			\n				\n			\n			\n				\n			\n			\n				\n			\n			\n				\n			\n			\n				\n			\n			\n				\n			\n			\n				\n			\n			\n				\n			\n			\n				\n			\n			\n				\n			\n			\n				\n			\n			\n				\n			\n			\n				\n			\n			\n				\n			\n			\n				\n			\n			\n				\n			\n			\n				\n			\n			\n				\n			\n			\n				\n			\n			\n				\n			\n			\n				\n			\n			\n				\n			\n			\n				\n			\n			\n				\n			\n			\n				\n			\n			\n				\n			\n			\n				\n			\n			\n				\n			\n			\n				\n			\n			\n				\n			\n			\n				\n			\n			\n				\n			\n			\n				\n			\n			\n				\n			\n			\n				\n			\n			\n				\n			\n			\n				\n			\n			\n				\n			\n			\n				\n			\n			\n				\n			\n			\n				\n			\n			\n				\n			\n			\n				\n			\n			\n				\n			\n			\n				\n			\n			\n				\n			\n			\n				\n			\n			\n				\n			\n			\n				\n			\n			\n				\n			\n			\n				\n			\n			\n				\n			\n			\n				\n			\n			\n				\n			\n			\n				\n			\n			\n				\n			\n			\n				\n			\n			\n				\n			\n			\n				\n			\n			\n				\n			\n			\n				\n			\n			\n				\n			\n			\n				\n			\n			\n				\n			\n			\n				\n			\n			\n				\n			\n			\n				\n			\n			\n				\n			\n			\n				\n			\n			\n				\n			\n			\n				\n			\n			\n				\n			\n		\n		\n				\n				\n						\n			\n		\n						\n			\n		\n						\n			\n		\n		
URL:https://shivamhuzurbazar.com/event/jehangir-art-gallery-august-2023/
LOCATION:Jalgaon\, Maharashtra\, 344 Acharya complex\, Jaikisan wadi\, Jalgaon\, Maharashtra\, 425001\, India
CATEGORIES:Exhibitions
ATTACH;FMTTYPE=image/jpeg:https://shivamhuzurbazar.com/wp-content/uploads/2023/08/17th-August-2023.jpg
ORGANIZER;CN="Dr.%20Sanjiv%20Huzurbazar":MAILTO:info@shivamhuzurbazar.com
END:VEVENT
END:VCALENDAR