BEGIN:VCALENDAR
VERSION:2.0
PRODID:-//Shivam Huzurbazar - ECPv5.1.4//NONSGML v1.0//EN
CALSCALE:GREGORIAN
METHOD:PUBLISH
X-WR-CALNAME:Shivam Huzurbazar
X-ORIGINAL-URL:https://shivamhuzurbazar.com
X-WR-CALDESC:Events for Shivam Huzurbazar
BEGIN:VTIMEZONE
TZID:UTC
BEGIN:STANDARD
TZOFFSETFROM:+0000
TZOFFSETTO:+0000
TZNAME:UTC
DTSTART:20190101T000000
END:STANDARD
END:VTIMEZONE
BEGIN:VEVENT
DTSTART;VALUE=DATE:20191022
DTEND;VALUE=DATE:20191028
DTSTAMP:20260421T101914
CREATED:20200606T084449Z
LAST-MODIFIED:20200809T120211Z
UID:692-1571702400-1572220799@shivamhuzurbazar.com
SUMMARY:Jehangir Art Gallery
DESCRIPTION:		\n			\n				\n							\n						\n				\n				\n			\n					\n				\n				\n					\n			\n			\n				\n			\n			\n				\n			\n			\n				\n			\n			\n				\n			\n			\n				\n			\n			\n				\n			\n			\n				\n			\n			\n				\n			\n			\n				\n			\n			\n				\n			\n			\n				\n			\n			\n				\n			\n			\n				\n			\n			\n				\n			\n			\n				\n			\n			\n				\n			\n			\n				\n			\n			\n				\n			\n			\n				\n			\n		\n		\n				\n				\n				\n				\n					\n			\n		\n				\n				\n						\n			\n		\n						\n			\n		\n						\n			\n		\n		
URL:https://shivamhuzurbazar.com/event/jehangir-art-gallery/
LOCATION:Jalgaon\, Maharashtra\, 344 Acharya complex\, Jaikisan wadi\, Jalgaon\, Maharashtra\, 425001\, India
CATEGORIES:Exhibitions
ATTACH;FMTTYPE=image/jpeg:https://shivamhuzurbazar.com/wp-content/uploads/2020/07/2-5.jpg
ORGANIZER;CN="Dr.%20Sanjiv%20Huzurbazar":MAILTO:info@shivamhuzurbazar.com
END:VEVENT
END:VCALENDAR